BEGIN:VCALENDAR
VERSION:2.0
PRODID:-//OFS MetroMarket - ECPv6.15.5//NONSGML v1.0//EN
CALSCALE:GREGORIAN
METHOD:PUBLISH
X-WR-CALNAME:OFS MetroMarket
X-ORIGINAL-URL:https://ofsmetromarket.org
X-WR-CALDESC:Events for OFS MetroMarket
REFRESH-INTERVAL;VALUE=DURATION:PT1H
X-Robots-Tag:noindex
X-PUBLISHED-TTL:PT1H
BEGIN:VTIMEZONE
TZID:America/Chicago
BEGIN:DAYLIGHT
TZOFFSETFROM:-0600
TZOFFSETTO:-0500
TZNAME:CDT
DTSTART:20260308T080000
END:DAYLIGHT
BEGIN:STANDARD
TZOFFSETFROM:-0500
TZOFFSETTO:-0600
TZNAME:CST
DTSTART:20261101T070000
END:STANDARD
END:VTIMEZONE
BEGIN:VEVENT
DTSTART;TZID=America/Chicago:20260424T110000
DTEND;TZID=America/Chicago:20260424T130000
DTSTAMP:20260424T014936
CREATED:20260409T181620Z
LAST-MODIFIED:20260409T181620Z
UID:10003858-1777028400-1777035600@ofsmetromarket.org
SUMMARY:MetroMarket @ Archwell Health
DESCRIPTION:
URL:https://ofsmetromarket.org/event/metromarket-archwell-health/
LOCATION:Archwell Health\, 1315 Aubert Ave\, St. Louis\, 63113\, United States
END:VEVENT
BEGIN:VEVENT
DTSTART;TZID=America/Chicago:20260424T150000
DTEND;TZID=America/Chicago:20260424T170000
DTSTAMP:20260424T014936
CREATED:20260409T181415Z
LAST-MODIFIED:20260409T181415Z
UID:10003874-1777042800-1777050000@ofsmetromarket.org
SUMMARY:MetroMarket @ City of Wellston
DESCRIPTION:
URL:https://ofsmetromarket.org/event/metromarket-city-of-wellston/2026-04-24/
LOCATION:City of Wellston\, 1623 Kienlen Ave\, Wellston\, 63133\, United States
END:VEVENT
BEGIN:VEVENT
DTSTART;TZID=America/Chicago:20260424T160000
DTEND;TZID=America/Chicago:20260424T180000
DTSTAMP:20260424T014936
CREATED:20260409T183711Z
LAST-MODIFIED:20260409T183711Z
UID:10003251-1777046400-1777053600@ofsmetromarket.org
SUMMARY:MetroMarket @ JJK Center
DESCRIPTION:
URL:https://ofsmetromarket.org/event/metromarket-jjk-center-2/2026-04-24/
LOCATION:Jackie Joyner Kersee Center\, 101 Jackie Joyner Kersee Circle\, East St. Louis\, IL\, 62204\, United States
END:VEVENT
END:VCALENDAR