BEGIN:VCALENDAR
VERSION:2.0
PRODID:-//OFS MetroMarket - ECPv6.15.5//NONSGML v1.0//EN
CALSCALE:GREGORIAN
METHOD:PUBLISH
X-WR-CALNAME:OFS MetroMarket
X-ORIGINAL-URL:https://ofsmetromarket.org
X-WR-CALDESC:Events for OFS MetroMarket
REFRESH-INTERVAL;VALUE=DURATION:PT1H
X-Robots-Tag:noindex
X-PUBLISHED-TTL:PT1H
BEGIN:VTIMEZONE
TZID:America/Chicago
BEGIN:DAYLIGHT
TZOFFSETFROM:-0600
TZOFFSETTO:-0500
TZNAME:CDT
DTSTART:20250309T080000
END:DAYLIGHT
BEGIN:STANDARD
TZOFFSETFROM:-0500
TZOFFSETTO:-0600
TZNAME:CST
DTSTART:20251102T070000
END:STANDARD
END:VTIMEZONE
BEGIN:VEVENT
DTSTART;TZID=America/Chicago:20250523T110000
DTEND;TZID=America/Chicago:20250523T130000
DTSTAMP:20260421T112041
CREATED:20250522T201036Z
LAST-MODIFIED:20250522T215042Z
UID:10000948-1747998000-1748005200@ofsmetromarket.org
SUMMARY:MetroMarket @ CareSTL • MLK
DESCRIPTION:EMERGENCY RESPONSE STOP:  Free Food and Supplies for Tornado Relief
URL:https://ofsmetromarket.org/event/metromarket-carestl-mlk-2/
LOCATION:CareSTL • Dr Martin Luther King\, 5471 Dr Martin Luther King Dr\, St. Louis\, MO\, 63112\, United States
CATEGORIES:Tornado Emergency Response
END:VEVENT
BEGIN:VEVENT
DTSTART;TZID=America/Chicago:20250531T110000
DTEND;TZID=America/Chicago:20250531T140000
DTSTAMP:20260421T112041
CREATED:20250523T211218Z
LAST-MODIFIED:20250527T141424Z
UID:10000754-1748689200-1748700000@ofsmetromarket.org
SUMMARY:MetroMarket @ Wesley House
DESCRIPTION:EMERGENCY RESPONSE STOP:  Free Food and Supplies for Tornado Relief
URL:https://ofsmetromarket.org/event/metromarket-wesley-house-2-2/
LOCATION:Wesley House\, 4507 E Lee Ave\, St. Louis\, MO\, 63115\, United States
CATEGORIES:Tornado Emergency Response
END:VEVENT
END:VCALENDAR