BEGIN:VCALENDAR
VERSION:2.0
PRODID:-//OFS MetroMarket - ECPv6.15.5//NONSGML v1.0//EN
CALSCALE:GREGORIAN
METHOD:PUBLISH
X-WR-CALNAME:OFS MetroMarket
X-ORIGINAL-URL:https://ofsmetromarket.org
X-WR-CALDESC:Events for OFS MetroMarket
REFRESH-INTERVAL;VALUE=DURATION:PT1H
X-Robots-Tag:noindex
X-PUBLISHED-TTL:PT1H
BEGIN:VTIMEZONE
TZID:America/Chicago
BEGIN:DAYLIGHT
TZOFFSETFROM:-0600
TZOFFSETTO:-0500
TZNAME:CDT
DTSTART:20260308T080000
END:DAYLIGHT
BEGIN:STANDARD
TZOFFSETFROM:-0500
TZOFFSETTO:-0600
TZNAME:CST
DTSTART:20261101T070000
END:STANDARD
END:VTIMEZONE
BEGIN:VEVENT
DTSTART;TZID=America/Chicago:20261120T150000
DTEND;TZID=America/Chicago:20261120T170000
DTSTAMP:20260421T002021
CREATED:20260409T181415Z
LAST-MODIFIED:20260409T181415Z
UID:10003889-1795186800-1795194000@ofsmetromarket.org
SUMMARY:MetroMarket @ City of Wellston
DESCRIPTION:
URL:https://ofsmetromarket.org/event/metromarket-city-of-wellston/2026-11-20/
LOCATION:City of Wellston\, 1623 Kienlen Ave\, Wellston\, 63133\, United States
END:VEVENT
BEGIN:VEVENT
DTSTART;TZID=America/Chicago:20261120T160000
DTEND;TZID=America/Chicago:20261120T180000
DTSTAMP:20260421T002021
CREATED:20260409T183711Z
LAST-MODIFIED:20260409T183711Z
UID:10003359-1795190400-1795197600@ofsmetromarket.org
SUMMARY:MetroMarket @ JJK Center
DESCRIPTION:
URL:https://ofsmetromarket.org/event/metromarket-jjk-center-2/2026-11-20/
LOCATION:Jackie Joyner Kersee Center\, 101 Jackie Joyner Kersee Circle\, East St. Louis\, IL\, 62204\, United States
END:VEVENT
END:VCALENDAR