BEGIN:VCALENDAR
VERSION:2.0
PRODID:-//OFS MetroMarket - ECPv6.15.5//NONSGML v1.0//EN
CALSCALE:GREGORIAN
METHOD:PUBLISH
X-WR-CALNAME:OFS MetroMarket
X-ORIGINAL-URL:https://ofsmetromarket.org
X-WR-CALDESC:Events for OFS MetroMarket
REFRESH-INTERVAL;VALUE=DURATION:PT1H
X-Robots-Tag:noindex
X-PUBLISHED-TTL:PT1H
BEGIN:VTIMEZONE
TZID:America/Chicago
BEGIN:DAYLIGHT
TZOFFSETFROM:-0600
TZOFFSETTO:-0500
TZNAME:CDT
DTSTART:20240310T080000
END:DAYLIGHT
BEGIN:STANDARD
TZOFFSETFROM:-0500
TZOFFSETTO:-0600
TZNAME:CST
DTSTART:20241103T070000
END:STANDARD
END:VTIMEZONE
BEGIN:VEVENT
DTSTART;TZID=America/Chicago:20240903T150000
DTEND;TZID=America/Chicago:20240903T170000
DTSTAMP:20260421T150509
CREATED:20240520T182223Z
LAST-MODIFIED:20240702T181158Z
UID:10000085-1725375600-1725382800@ofsmetromarket.org
SUMMARY:MetroMarket @ Urban League Head Start • Jennings
DESCRIPTION:
URL:https://ofsmetromarket.org/event/metromarket-urban-league-head-start-jennings/2024-09-03/
LOCATION:Urban League Head Start • Jennings\, 8964 Jennings Station Rd\, St. Louis\, MO\, United States
END:VEVENT
BEGIN:VEVENT
DTSTART;TZID=America/Chicago:20240903T110000
DTEND;TZID=America/Chicago:20240903T130000
DTSTAMP:20260421T150509
CREATED:20240520T180440Z
LAST-MODIFIED:20240702T165325Z
UID:10000367-1725361200-1725368400@ofsmetromarket.org
SUMMARY:MetroMarket @ Affinia Healthcare • Lemp
DESCRIPTION:
URL:https://ofsmetromarket.org/event/metromarket-affinia-healthcare-lemp/2024-09-03/
LOCATION:Affinia • Lemp\, 2220 Lemp Ave\, St. Louis\, MO\, 63104\, United States
END:VEVENT
BEGIN:VEVENT
DTSTART;TZID=America/Chicago:20240830T150000
DTEND;TZID=America/Chicago:20240830T170000
DTSTAMP:20260421T150509
CREATED:20240521T164348Z
LAST-MODIFIED:20240711T203452Z
UID:10000308-1725030000-1725037200@ofsmetromarket.org
SUMMARY:MetroMarket @ Affinia • Ferguson
DESCRIPTION:
URL:https://ofsmetromarket.org/event/metromarket-affinia-ferguson/2024-08-30/
LOCATION:Affinia • Ferguson\, 3396 Pershall Rd\, Ferguson\, MO\, 63135\, United States
END:VEVENT
BEGIN:VEVENT
DTSTART;TZID=America/Chicago:20240830T120000
DTEND;TZID=America/Chicago:20240830T140000
DTSTAMP:20260421T150509
CREATED:20240427T011030Z
LAST-MODIFIED:20240521T173133Z
UID:10000239-1725019200-1725026400@ofsmetromarket.org
SUMMARY:MetroMarket @ Homer G. Phillips Sr Apts
DESCRIPTION:
URL:https://ofsmetromarket.org/event/homer-g-phillips-sr-apts-whittier-2/2024-08-30/
LOCATION:Homer G. Phillips Sr Apartments\, 2601 Whittier St\, St. Louis\, MO\, 63113\, United States
END:VEVENT
BEGIN:VEVENT
DTSTART;TZID=America/Chicago:20240830T110000
DTEND;TZID=America/Chicago:20240830T130000
DTSTAMP:20260421T150509
CREATED:20240520T192334Z
LAST-MODIFIED:20240702T180620Z
UID:10000214-1725015600-1725022800@ofsmetromarket.org
SUMMARY:MetroMarket @ CareSTL Health • Dr Martin Luther King
DESCRIPTION:
URL:https://ofsmetromarket.org/event/metromarket-carestl-health-dr-martin-luther-king/2024-08-30/
LOCATION:CareSTL • Dr Martin Luther King\, 5471 Dr Martin Luther King Dr\, St. Louis\, MO\, 63112\, United States
END:VEVENT
BEGIN:VEVENT
DTSTART;TZID=America/Chicago:20240829T150000
DTEND;TZID=America/Chicago:20240829T170000
DTSTAMP:20260421T150509
CREATED:20240520T190753Z
LAST-MODIFIED:20240923T171439Z
UID:10000188-1724943600-1724950800@ofsmetromarket.org
SUMMARY:MetroMarket @ Affinia • Biddle
DESCRIPTION:
URL:https://ofsmetromarket.org/event/metromarket-affinia-biddle/2024-08-29/
LOCATION:Affinia • Biddle\, 1717 Biddle St\, St. Louis\, MO\, 63106\, United States
END:VEVENT
BEGIN:VEVENT
DTSTART;TZID=America/Chicago:20240829T110000
DTEND;TZID=America/Chicago:20240829T130000
DTSTAMP:20260421T150509
CREATED:20240613T192220Z
LAST-MODIFIED:20240923T170642Z
UID:10000162-1724929200-1724936400@ofsmetromarket.org
SUMMARY:MetroMarket @ Delmar DivINe
DESCRIPTION:
URL:https://ofsmetromarket.org/event/metromarket-delmar-divine-2-2/2024-08-29/
LOCATION:Delmar DivINe\, 5501 Delmar Blvd\, St. Louis\, MO\, 63112\, United States
END:VEVENT
BEGIN:VEVENT
DTSTART;TZID=America/Chicago:20240828T150000
DTEND;TZID=America/Chicago:20240828T170000
DTSTAMP:20260421T150509
CREATED:20240520T183243Z
LAST-MODIFIED:20240521T153627Z
UID:10000136-1724857200-1724864400@ofsmetromarket.org
SUMMARY:MetroMarket @ St. Louis County Library • Lewis & Clark
DESCRIPTION:
URL:https://ofsmetromarket.org/event/metromarket-st-louis-county-library-lewis-clark/2024-08-28/
LOCATION:St. Louis County Library • Lewis and Clark\, 9909 Lewis and Clark Blvd\, St. Louis\, MO\, 63136-5322\, United States
END:VEVENT
BEGIN:VEVENT
DTSTART;TZID=America/Chicago:20240828T110000
DTEND;TZID=America/Chicago:20240828T130000
DTSTAMP:20260421T150509
CREATED:20240520T182806Z
LAST-MODIFIED:20240702T174655Z
UID:10000110-1724842800-1724850000@ofsmetromarket.org
SUMMARY:MetroMarket @ Five Star Center
DESCRIPTION:
URL:https://ofsmetromarket.org/event/five-star-center-3/2024-08-28/
LOCATION:5 Star Center\, 2832 Arsenal St\, St. Louis\, MO\, 63118\, United States
END:VEVENT
BEGIN:VEVENT
DTSTART;TZID=America/Chicago:20240828T090000
DTEND;TZID=America/Chicago:20240828T110000
DTSTAMP:20260421T150509
CREATED:20240729T195303Z
LAST-MODIFIED:20240923T175754Z
UID:10000430-1724835600-1724842800@ofsmetromarket.org
SUMMARY:MetroMarket @ Bayer YMCA
DESCRIPTION:
URL:https://ofsmetromarket.org/event/metromarket-bayer-ymca/2024-08-28/
LOCATION:Bayer YMCA\, 5555 Page Blvd\, St. Louis\, MO\, 63112\, United States
END:VEVENT
BEGIN:VEVENT
DTSTART;TZID=America/Chicago:20240827T150000
DTEND;TZID=America/Chicago:20240827T170000
DTSTAMP:20260421T150509
CREATED:20240520T182223Z
LAST-MODIFIED:20240702T181158Z
UID:10000084-1724770800-1724778000@ofsmetromarket.org
SUMMARY:MetroMarket @ Urban League Head Start • Jennings
DESCRIPTION:
URL:https://ofsmetromarket.org/event/metromarket-urban-league-head-start-jennings/2024-08-27/
LOCATION:Urban League Head Start • Jennings\, 8964 Jennings Station Rd\, St. Louis\, MO\, United States
END:VEVENT
BEGIN:VEVENT
DTSTART;TZID=America/Chicago:20240827T110000
DTEND;TZID=America/Chicago:20240827T130000
DTSTAMP:20260421T150509
CREATED:20240520T180440Z
LAST-MODIFIED:20240702T165325Z
UID:10000058-1724756400-1724763600@ofsmetromarket.org
SUMMARY:MetroMarket @ Affinia Healthcare • Lemp
DESCRIPTION:
URL:https://ofsmetromarket.org/event/metromarket-affinia-healthcare-lemp/2024-08-27/
LOCATION:Affinia • Lemp\, 2220 Lemp Ave\, St. Louis\, MO\, 63104\, United States
END:VEVENT
BEGIN:VEVENT
DTSTART;TZID=America/Chicago:20240827T100000
DTEND;TZID=America/Chicago:20240827T120000
DTSTAMP:20260421T150509
CREATED:20240729T195036Z
LAST-MODIFIED:20240923T180001Z
UID:10000395-1724752800-1724760000@ofsmetromarket.org
SUMMARY:MetroMarket @ Affinia • Broadway
DESCRIPTION:
URL:https://ofsmetromarket.org/event/metromarket-affinia-broadway/2024-08-27/
LOCATION:Affinia • Broadway\, 3930 S Broadway\, St. Louis\, MO\, 63118\, United States
END:VEVENT
BEGIN:VEVENT
DTSTART;TZID=America/Chicago:20240823T150000
DTEND;TZID=America/Chicago:20240823T170000
DTSTAMP:20260421T150509
CREATED:20240521T164348Z
LAST-MODIFIED:20240711T203452Z
UID:10000304-1724425200-1724432400@ofsmetromarket.org
SUMMARY:MetroMarket @ Affinia • Ferguson
DESCRIPTION:
URL:https://ofsmetromarket.org/event/metromarket-affinia-ferguson/2024-08-23/
LOCATION:Affinia • Ferguson\, 3396 Pershall Rd\, Ferguson\, MO\, 63135\, United States
END:VEVENT
BEGIN:VEVENT
DTSTART;TZID=America/Chicago:20240823T110000
DTEND;TZID=America/Chicago:20240823T130000
DTSTAMP:20260421T150509
CREATED:20240520T192334Z
LAST-MODIFIED:20240702T180620Z
UID:10000213-1724410800-1724418000@ofsmetromarket.org
SUMMARY:MetroMarket @ CareSTL Health • Dr Martin Luther King
DESCRIPTION:
URL:https://ofsmetromarket.org/event/metromarket-carestl-health-dr-martin-luther-king/2024-08-23/
LOCATION:CareSTL • Dr Martin Luther King\, 5471 Dr Martin Luther King Dr\, St. Louis\, MO\, 63112\, United States
END:VEVENT
BEGIN:VEVENT
DTSTART;TZID=America/Chicago:20240822T150000
DTEND;TZID=America/Chicago:20240822T170000
DTSTAMP:20260421T150509
CREATED:20240520T190753Z
LAST-MODIFIED:20240923T171439Z
UID:10000187-1724338800-1724346000@ofsmetromarket.org
SUMMARY:MetroMarket @ Affinia • Biddle
DESCRIPTION:
URL:https://ofsmetromarket.org/event/metromarket-affinia-biddle/2024-08-22/
LOCATION:Affinia • Biddle\, 1717 Biddle St\, St. Louis\, MO\, 63106\, United States
END:VEVENT
BEGIN:VEVENT
DTSTART;TZID=America/Chicago:20240822T120000
DTEND;TZID=America/Chicago:20240822T140000
DTSTAMP:20260421T150509
CREATED:20240722T190703Z
LAST-MODIFIED:20240722T190704Z
UID:10000341-1724328000-1724335200@ofsmetromarket.org
SUMMARY:MetroMarket @ Family Care Health Centers • Manchester
DESCRIPTION:
URL:https://ofsmetromarket.org/event/family-care-health-centers-holly-hills-3/
LOCATION:Family Care Health Center • Manchester\, 4352 Manchester Ave\, St. Louis\, MO\, 63110\, United States
END:VEVENT
BEGIN:VEVENT
DTSTART;TZID=America/Chicago:20240822T110000
DTEND;TZID=America/Chicago:20240822T130000
DTSTAMP:20260421T150509
CREATED:20240613T192220Z
LAST-MODIFIED:20240923T170642Z
UID:10000161-1724324400-1724331600@ofsmetromarket.org
SUMMARY:MetroMarket @ Delmar DivINe
DESCRIPTION:
URL:https://ofsmetromarket.org/event/metromarket-delmar-divine-2-2/2024-08-22/
LOCATION:Delmar DivINe\, 5501 Delmar Blvd\, St. Louis\, MO\, 63112\, United States
END:VEVENT
BEGIN:VEVENT
DTSTART;TZID=America/Chicago:20240821T150000
DTEND;TZID=America/Chicago:20240821T170000
DTSTAMP:20260421T150509
CREATED:20240520T183243Z
LAST-MODIFIED:20240521T153627Z
UID:10000135-1724252400-1724259600@ofsmetromarket.org
SUMMARY:MetroMarket @ St. Louis County Library • Lewis & Clark
DESCRIPTION:
URL:https://ofsmetromarket.org/event/metromarket-st-louis-county-library-lewis-clark/2024-08-21/
LOCATION:St. Louis County Library • Lewis and Clark\, 9909 Lewis and Clark Blvd\, St. Louis\, MO\, 63136-5322\, United States
END:VEVENT
BEGIN:VEVENT
DTSTART;TZID=America/Chicago:20240820T150000
DTEND;TZID=America/Chicago:20240820T170000
DTSTAMP:20260421T150509
CREATED:20240520T182223Z
LAST-MODIFIED:20240702T181158Z
UID:10000083-1724166000-1724173200@ofsmetromarket.org
SUMMARY:MetroMarket @ Urban League Head Start • Jennings
DESCRIPTION:
URL:https://ofsmetromarket.org/event/metromarket-urban-league-head-start-jennings/2024-08-20/
LOCATION:Urban League Head Start • Jennings\, 8964 Jennings Station Rd\, St. Louis\, MO\, United States
END:VEVENT
BEGIN:VEVENT
DTSTART;TZID=America/Chicago:20240820T110000
DTEND;TZID=America/Chicago:20240820T130000
DTSTAMP:20260421T150509
CREATED:20240520T180440Z
LAST-MODIFIED:20240702T165325Z
UID:10000057-1724151600-1724158800@ofsmetromarket.org
SUMMARY:MetroMarket @ Affinia Healthcare • Lemp
DESCRIPTION:
URL:https://ofsmetromarket.org/event/metromarket-affinia-healthcare-lemp/2024-08-20/
LOCATION:Affinia • Lemp\, 2220 Lemp Ave\, St. Louis\, MO\, 63104\, United States
END:VEVENT
BEGIN:VEVENT
DTSTART;TZID=America/Chicago:20240816T150000
DTEND;TZID=America/Chicago:20240816T170000
DTSTAMP:20260421T150509
CREATED:20240521T164348Z
LAST-MODIFIED:20240711T203452Z
UID:10000303-1723820400-1723827600@ofsmetromarket.org
SUMMARY:MetroMarket @ Affinia • Ferguson
DESCRIPTION:
URL:https://ofsmetromarket.org/event/metromarket-affinia-ferguson/2024-08-16/
LOCATION:Affinia • Ferguson\, 3396 Pershall Rd\, Ferguson\, MO\, 63135\, United States
END:VEVENT
BEGIN:VEVENT
DTSTART;TZID=America/Chicago:20240816T120000
DTEND;TZID=America/Chicago:20240816T140000
DTSTAMP:20260421T150509
CREATED:20240427T011030Z
LAST-MODIFIED:20240521T173133Z
UID:10000237-1723809600-1723816800@ofsmetromarket.org
SUMMARY:MetroMarket @ Homer G. Phillips Sr Apts
DESCRIPTION:
URL:https://ofsmetromarket.org/event/homer-g-phillips-sr-apts-whittier-2/2024-08-16/
LOCATION:Homer G. Phillips Sr Apartments\, 2601 Whittier St\, St. Louis\, MO\, 63113\, United States
END:VEVENT
BEGIN:VEVENT
DTSTART;TZID=America/Chicago:20240816T110000
DTEND;TZID=America/Chicago:20240816T130000
DTSTAMP:20260421T150509
CREATED:20240520T192334Z
LAST-MODIFIED:20240702T180620Z
UID:10000212-1723806000-1723813200@ofsmetromarket.org
SUMMARY:MetroMarket @ CareSTL Health • Dr Martin Luther King
DESCRIPTION:
URL:https://ofsmetromarket.org/event/metromarket-carestl-health-dr-martin-luther-king/2024-08-16/
LOCATION:CareSTL • Dr Martin Luther King\, 5471 Dr Martin Luther King Dr\, St. Louis\, MO\, 63112\, United States
END:VEVENT
BEGIN:VEVENT
DTSTART;TZID=America/Chicago:20240815T150000
DTEND;TZID=America/Chicago:20240815T170000
DTSTAMP:20260421T150509
CREATED:20240520T190753Z
LAST-MODIFIED:20240923T171439Z
UID:10000186-1723734000-1723741200@ofsmetromarket.org
SUMMARY:MetroMarket @ Affinia • Biddle
DESCRIPTION:
URL:https://ofsmetromarket.org/event/metromarket-affinia-biddle/2024-08-15/
LOCATION:Affinia • Biddle\, 1717 Biddle St\, St. Louis\, MO\, 63106\, United States
END:VEVENT
BEGIN:VEVENT
DTSTART;TZID=America/Chicago:20240815T110000
DTEND;TZID=America/Chicago:20240815T130000
DTSTAMP:20260421T150509
CREATED:20240613T192220Z
LAST-MODIFIED:20240923T170642Z
UID:10000160-1723719600-1723726800@ofsmetromarket.org
SUMMARY:MetroMarket @ Delmar DivINe
DESCRIPTION:
URL:https://ofsmetromarket.org/event/metromarket-delmar-divine-2-2/2024-08-15/
LOCATION:Delmar DivINe\, 5501 Delmar Blvd\, St. Louis\, MO\, 63112\, United States
END:VEVENT
BEGIN:VEVENT
DTSTART;TZID=America/Chicago:20240814T150000
DTEND;TZID=America/Chicago:20240814T170000
DTSTAMP:20260421T150509
CREATED:20240520T183243Z
LAST-MODIFIED:20240521T153627Z
UID:10000134-1723647600-1723654800@ofsmetromarket.org
SUMMARY:MetroMarket @ St. Louis County Library • Lewis & Clark
DESCRIPTION:
URL:https://ofsmetromarket.org/event/metromarket-st-louis-county-library-lewis-clark/2024-08-14/
LOCATION:St. Louis County Library • Lewis and Clark\, 9909 Lewis and Clark Blvd\, St. Louis\, MO\, 63136-5322\, United States
END:VEVENT
BEGIN:VEVENT
DTSTART;TZID=America/Chicago:20240814T110000
DTEND;TZID=America/Chicago:20240814T130000
DTSTAMP:20260421T150509
CREATED:20240520T182806Z
LAST-MODIFIED:20240702T174655Z
UID:10000108-1723633200-1723640400@ofsmetromarket.org
SUMMARY:MetroMarket @ Five Star Center
DESCRIPTION:
URL:https://ofsmetromarket.org/event/five-star-center-3/2024-08-14/
LOCATION:5 Star Center\, 2832 Arsenal St\, St. Louis\, MO\, 63118\, United States
END:VEVENT
BEGIN:VEVENT
DTSTART;TZID=America/Chicago:20240814T090000
DTEND;TZID=America/Chicago:20240814T110000
DTSTAMP:20260421T150509
CREATED:20240729T195303Z
LAST-MODIFIED:20240923T175754Z
UID:10000429-1723626000-1723633200@ofsmetromarket.org
SUMMARY:MetroMarket @ Bayer YMCA
DESCRIPTION:
URL:https://ofsmetromarket.org/event/metromarket-bayer-ymca/2024-08-14/
LOCATION:Bayer YMCA\, 5555 Page Blvd\, St. Louis\, MO\, 63112\, United States
END:VEVENT
BEGIN:VEVENT
DTSTART;TZID=America/Chicago:20240813T150000
DTEND;TZID=America/Chicago:20240813T170000
DTSTAMP:20260421T150509
CREATED:20240520T182223Z
LAST-MODIFIED:20240702T181158Z
UID:10000082-1723561200-1723568400@ofsmetromarket.org
SUMMARY:MetroMarket @ Urban League Head Start • Jennings
DESCRIPTION:
URL:https://ofsmetromarket.org/event/metromarket-urban-league-head-start-jennings/2024-08-13/
LOCATION:Urban League Head Start • Jennings\, 8964 Jennings Station Rd\, St. Louis\, MO\, United States
END:VEVENT
END:VCALENDAR