BEGIN:VCALENDAR
VERSION:2.0
PRODID:-//OFS MetroMarket - ECPv6.15.5//NONSGML v1.0//EN
CALSCALE:GREGORIAN
METHOD:PUBLISH
X-WR-CALNAME:OFS MetroMarket
X-ORIGINAL-URL:https://ofsmetromarket.org
X-WR-CALDESC:Events for OFS MetroMarket
REFRESH-INTERVAL;VALUE=DURATION:PT1H
X-Robots-Tag:noindex
X-PUBLISHED-TTL:PT1H
BEGIN:VTIMEZONE
TZID:America/Chicago
BEGIN:DAYLIGHT
TZOFFSETFROM:-0600
TZOFFSETTO:-0500
TZNAME:CDT
DTSTART:20240310T080000
END:DAYLIGHT
BEGIN:STANDARD
TZOFFSETFROM:-0500
TZOFFSETTO:-0600
TZNAME:CST
DTSTART:20241103T070000
END:STANDARD
END:VTIMEZONE
BEGIN:VEVENT
DTSTART;TZID=America/Chicago:20240620T150000
DTEND;TZID=America/Chicago:20240620T170000
DTSTAMP:20260425T110224
CREATED:20240521T143522Z
LAST-MODIFIED:20240521T181837Z
UID:10000292-1718895600-1718902800@ofsmetromarket.org
SUMMARY:MetroMarket @ Urban Sprouts
DESCRIPTION:
URL:https://ofsmetromarket.org/event/urban-sprouts-5/2024-06-20/
LOCATION:Urban Sprouts\, 6757 Olive Blvd\, University City\, MO\, 63130\, United States
END:VEVENT
BEGIN:VEVENT
DTSTART;TZID=America/Chicago:20240620T150000
DTEND;TZID=America/Chicago:20240620T170000
DTSTAMP:20260425T110224
CREATED:20240520T190753Z
LAST-MODIFIED:20240923T171439Z
UID:10000178-1718895600-1718902800@ofsmetromarket.org
SUMMARY:MetroMarket @ Affinia • Biddle
DESCRIPTION:
URL:https://ofsmetromarket.org/event/metromarket-affinia-biddle/2024-06-20/
LOCATION:Affinia • Biddle\, 1717 Biddle St\, St. Louis\, MO\, 63106\, United States
END:VEVENT
BEGIN:VEVENT
DTSTART;TZID=America/Chicago:20240620T110000
DTEND;TZID=America/Chicago:20240620T130000
DTSTAMP:20260425T110224
CREATED:20240613T192220Z
LAST-MODIFIED:20240923T170642Z
UID:10000152-1718881200-1718888400@ofsmetromarket.org
SUMMARY:MetroMarket @ Delmar DivINe
DESCRIPTION:
URL:https://ofsmetromarket.org/event/metromarket-delmar-divine-2-2/2024-06-20/
LOCATION:Delmar DivINe\, 5501 Delmar Blvd\, St. Louis\, MO\, 63112\, United States
END:VEVENT
BEGIN:VEVENT
DTSTART;TZID=America/Chicago:20240618T150000
DTEND;TZID=America/Chicago:20240618T170000
DTSTAMP:20260425T110224
CREATED:20240520T182223Z
LAST-MODIFIED:20240702T181158Z
UID:10000074-1718722800-1718730000@ofsmetromarket.org
SUMMARY:MetroMarket @ Urban League Head Start • Jennings
DESCRIPTION:
URL:https://ofsmetromarket.org/event/metromarket-urban-league-head-start-jennings/2024-06-18/
LOCATION:Urban League Head Start • Jennings\, 8964 Jennings Station Rd\, St. Louis\, MO\, United States
END:VEVENT
BEGIN:VEVENT
DTSTART;TZID=America/Chicago:20240618T110000
DTEND;TZID=America/Chicago:20240618T130000
DTSTAMP:20260425T110224
CREATED:20240520T180440Z
LAST-MODIFIED:20240702T165325Z
UID:10000048-1718708400-1718715600@ofsmetromarket.org
SUMMARY:MetroMarket @ Affinia Healthcare • Lemp
DESCRIPTION:
URL:https://ofsmetromarket.org/event/metromarket-affinia-healthcare-lemp/2024-06-18/
LOCATION:Affinia • Lemp\, 2220 Lemp Ave\, St. Louis\, MO\, 63104\, United States
END:VEVENT
BEGIN:VEVENT
DTSTART;TZID=America/Chicago:20240614T150000
DTEND;TZID=America/Chicago:20240614T170000
DTSTAMP:20260425T110224
CREATED:20240521T143522Z
LAST-MODIFIED:20240521T181837Z
UID:10000286-1718377200-1718384400@ofsmetromarket.org
SUMMARY:MetroMarket @ Urban Sprouts
DESCRIPTION:
URL:https://ofsmetromarket.org/event/urban-sprouts-5/2024-06-14/
LOCATION:Urban Sprouts\, 6757 Olive Blvd\, University City\, MO\, 63130\, United States
END:VEVENT
BEGIN:VEVENT
DTSTART;TZID=America/Chicago:20240614T120000
DTEND;TZID=America/Chicago:20240614T140000
DTSTAMP:20260425T110224
CREATED:20240520T201447Z
LAST-MODIFIED:20240702T180929Z
UID:10000253-1718366400-1718373600@ofsmetromarket.org
SUMMARY:MetroMarket @ International Institute
DESCRIPTION:
URL:https://ofsmetromarket.org/event/metromarket-international-institute/2024-06-14/
LOCATION:International Institute\, 3401 Arsenal St\, St. Louis\, MO\, 63118\, United States
END:VEVENT
BEGIN:VEVENT
DTSTART;TZID=America/Chicago:20240614T110000
DTEND;TZID=America/Chicago:20240614T130000
DTSTAMP:20260425T110224
CREATED:20240520T192334Z
LAST-MODIFIED:20240702T180620Z
UID:10000203-1718362800-1718370000@ofsmetromarket.org
SUMMARY:MetroMarket @ CareSTL Health • Dr Martin Luther King
DESCRIPTION:
URL:https://ofsmetromarket.org/event/metromarket-carestl-health-dr-martin-luther-king/2024-06-14/
LOCATION:CareSTL • Dr Martin Luther King\, 5471 Dr Martin Luther King Dr\, St. Louis\, MO\, 63112\, United States
END:VEVENT
BEGIN:VEVENT
DTSTART;TZID=America/Chicago:20240613T150000
DTEND;TZID=America/Chicago:20240613T170000
DTSTAMP:20260425T110224
CREATED:20240520T190753Z
LAST-MODIFIED:20240923T171439Z
UID:10000177-1718290800-1718298000@ofsmetromarket.org
SUMMARY:MetroMarket @ Affinia • Biddle
DESCRIPTION:
URL:https://ofsmetromarket.org/event/metromarket-affinia-biddle/2024-06-13/
LOCATION:Affinia • Biddle\, 1717 Biddle St\, St. Louis\, MO\, 63106\, United States
END:VEVENT
BEGIN:VEVENT
DTSTART;TZID=America/Chicago:20240613T130000
DTEND;TZID=America/Chicago:20240613T150000
DTSTAMP:20260425T110224
CREATED:20240521T150224Z
LAST-MODIFIED:20240521T150224Z
UID:10000285-1718283600-1718290800@ofsmetromarket.org
SUMMARY:MetroMarket @ Vandeventer Place
DESCRIPTION:
URL:https://ofsmetromarket.org/event/metromarket-vandeventer-place/
LOCATION:Vandeventer Place\, 1400 Pendleton Ave\, St. Louis\, MO\, 63113\, United States
END:VEVENT
BEGIN:VEVENT
DTSTART;TZID=America/Chicago:20240613T110000
DTEND;TZID=America/Chicago:20240613T130000
DTSTAMP:20260425T110224
CREATED:20240613T192249Z
LAST-MODIFIED:20240613T192438Z
UID:10000151-1718276400-1718283600@ofsmetromarket.org
SUMMARY:MetroMarket @ Delmar DivINe
DESCRIPTION:
URL:https://ofsmetromarket.org/event/metromarket-delmar-divine-3/
LOCATION:Delmar DivINe\, 5501 Delmar Blvd\, St. Louis\, MO\, 63112\, United States
END:VEVENT
BEGIN:VEVENT
DTSTART;TZID=America/Chicago:20240612T150000
DTEND;TZID=America/Chicago:20240612T170000
DTSTAMP:20260425T110224
CREATED:20240520T183243Z
LAST-MODIFIED:20240521T153627Z
UID:10000125-1718204400-1718211600@ofsmetromarket.org
SUMMARY:MetroMarket @ St. Louis County Library • Lewis & Clark
DESCRIPTION:
URL:https://ofsmetromarket.org/event/metromarket-st-louis-county-library-lewis-clark/2024-06-12/
LOCATION:St. Louis County Library • Lewis and Clark\, 9909 Lewis and Clark Blvd\, St. Louis\, MO\, 63136-5322\, United States
END:VEVENT
BEGIN:VEVENT
DTSTART;TZID=America/Chicago:20240612T110000
DTEND;TZID=America/Chicago:20240612T130000
DTSTAMP:20260425T110224
CREATED:20240520T182806Z
LAST-MODIFIED:20240702T174655Z
UID:10000099-1718190000-1718197200@ofsmetromarket.org
SUMMARY:MetroMarket @ Five Star Center
DESCRIPTION:
URL:https://ofsmetromarket.org/event/five-star-center-3/2024-06-12/
LOCATION:5 Star Center\, 2832 Arsenal St\, St. Louis\, MO\, 63118\, United States
END:VEVENT
BEGIN:VEVENT
DTSTART;TZID=America/Chicago:20240611T150000
DTEND;TZID=America/Chicago:20240611T170000
DTSTAMP:20260425T110224
CREATED:20240520T182223Z
LAST-MODIFIED:20240702T181158Z
UID:10000073-1718118000-1718125200@ofsmetromarket.org
SUMMARY:MetroMarket @ Urban League Head Start • Jennings
DESCRIPTION:
URL:https://ofsmetromarket.org/event/metromarket-urban-league-head-start-jennings/2024-06-11/
LOCATION:Urban League Head Start • Jennings\, 8964 Jennings Station Rd\, St. Louis\, MO\, United States
END:VEVENT
BEGIN:VEVENT
DTSTART;TZID=America/Chicago:20240611T110000
DTEND;TZID=America/Chicago:20240611T130000
DTSTAMP:20260425T110224
CREATED:20240520T180440Z
LAST-MODIFIED:20240702T165325Z
UID:10000047-1718103600-1718110800@ofsmetromarket.org
SUMMARY:MetroMarket @ Affinia Healthcare • Lemp
DESCRIPTION:
URL:https://ofsmetromarket.org/event/metromarket-affinia-healthcare-lemp/2024-06-11/
LOCATION:Affinia • Lemp\, 2220 Lemp Ave\, St. Louis\, MO\, 63104\, United States
END:VEVENT
BEGIN:VEVENT
DTSTART;TZID=America/Chicago:20240608T090000
DTEND;TZID=America/Chicago:20240608T120000
DTSTAMP:20260425T110224
CREATED:20240605T184616Z
LAST-MODIFIED:20240923T170432Z
UID:10000284-1717837200-1717848000@ofsmetromarket.org
SUMMARY:MetroMarket @ Christian Hospital
DESCRIPTION:
URL:https://ofsmetromarket.org/event/metromarket-christian-hospital-2/2024-06-08/
LOCATION:Christian Hospital • Dunn\, 11133 Dunn Road\, St. Louis\, MO\, 63136\, United States
END:VEVENT
BEGIN:VEVENT
DTSTART;TZID=America/Chicago:20240607T150000
DTEND;TZID=America/Chicago:20240607T170000
DTSTAMP:20260425T110224
CREATED:20240521T143522Z
LAST-MODIFIED:20240521T181837Z
UID:10000283-1717772400-1717779600@ofsmetromarket.org
SUMMARY:MetroMarket @ Urban Sprouts
DESCRIPTION:
URL:https://ofsmetromarket.org/event/urban-sprouts-5/2024-06-07/
LOCATION:Urban Sprouts\, 6757 Olive Blvd\, University City\, MO\, 63130\, United States
END:VEVENT
BEGIN:VEVENT
DTSTART;TZID=America/Chicago:20240607T120000
DTEND;TZID=America/Chicago:20240607T140000
DTSTAMP:20260425T110224
CREATED:20240427T011030Z
LAST-MODIFIED:20240521T173133Z
UID:10000227-1717761600-1717768800@ofsmetromarket.org
SUMMARY:MetroMarket @ Homer G. Phillips Sr Apts
DESCRIPTION:
URL:https://ofsmetromarket.org/event/homer-g-phillips-sr-apts-whittier-2/2024-06-07/
LOCATION:Homer G. Phillips Sr Apartments\, 2601 Whittier St\, St. Louis\, MO\, 63113\, United States
END:VEVENT
BEGIN:VEVENT
DTSTART;TZID=America/Chicago:20240607T110000
DTEND;TZID=America/Chicago:20240607T130000
DTSTAMP:20260425T110224
CREATED:20240520T192334Z
LAST-MODIFIED:20240702T180620Z
UID:10000202-1717758000-1717765200@ofsmetromarket.org
SUMMARY:MetroMarket @ CareSTL Health • Dr Martin Luther King
DESCRIPTION:
URL:https://ofsmetromarket.org/event/metromarket-carestl-health-dr-martin-luther-king/2024-06-07/
LOCATION:CareSTL • Dr Martin Luther King\, 5471 Dr Martin Luther King Dr\, St. Louis\, MO\, 63112\, United States
END:VEVENT
BEGIN:VEVENT
DTSTART;TZID=America/Chicago:20240606T150000
DTEND;TZID=America/Chicago:20240606T170000
DTSTAMP:20260425T110224
CREATED:20240520T190753Z
LAST-MODIFIED:20240923T171439Z
UID:10000176-1717686000-1717693200@ofsmetromarket.org
SUMMARY:MetroMarket @ Affinia • Biddle
DESCRIPTION:
URL:https://ofsmetromarket.org/event/metromarket-affinia-biddle/2024-06-06/
LOCATION:Affinia • Biddle\, 1717 Biddle St\, St. Louis\, MO\, 63106\, United States
END:VEVENT
BEGIN:VEVENT
DTSTART;TZID=America/Chicago:20240606T110000
DTEND;TZID=America/Chicago:20240606T130000
DTSTAMP:20260425T110224
CREATED:20240520T185209Z
LAST-MODIFIED:20240613T192426Z
UID:10000150-1717671600-1717678800@ofsmetromarket.org
SUMMARY:MetroMarket @ Delmar DivINe
DESCRIPTION:
URL:https://ofsmetromarket.org/event/metromarket-delmar-divine-2/2024-06-06/
LOCATION:Delmar DivINe\, 5501 Delmar Blvd\, St. Louis\, MO\, 63112\, United States
END:VEVENT
BEGIN:VEVENT
DTSTART;TZID=America/Chicago:20240605T150000
DTEND;TZID=America/Chicago:20240605T170000
DTSTAMP:20260425T110224
CREATED:20240520T183243Z
LAST-MODIFIED:20240521T153627Z
UID:10000124-1717599600-1717606800@ofsmetromarket.org
SUMMARY:MetroMarket @ St. Louis County Library • Lewis & Clark
DESCRIPTION:
URL:https://ofsmetromarket.org/event/metromarket-st-louis-county-library-lewis-clark/2024-06-05/
LOCATION:St. Louis County Library • Lewis and Clark\, 9909 Lewis and Clark Blvd\, St. Louis\, MO\, 63136-5322\, United States
END:VEVENT
BEGIN:VEVENT
DTSTART;TZID=America/Chicago:20240605T110000
DTEND;TZID=America/Chicago:20240605T130000
DTSTAMP:20260425T110224
CREATED:20240520T182806Z
LAST-MODIFIED:20240702T174655Z
UID:10000098-1717585200-1717592400@ofsmetromarket.org
SUMMARY:MetroMarket @ Five Star Center
DESCRIPTION:
URL:https://ofsmetromarket.org/event/five-star-center-3/2024-06-05/
LOCATION:5 Star Center\, 2832 Arsenal St\, St. Louis\, MO\, 63118\, United States
END:VEVENT
BEGIN:VEVENT
DTSTART;TZID=America/Chicago:20240604T150000
DTEND;TZID=America/Chicago:20240604T170000
DTSTAMP:20260425T110224
CREATED:20240520T182223Z
LAST-MODIFIED:20240702T181158Z
UID:10000072-1717513200-1717520400@ofsmetromarket.org
SUMMARY:MetroMarket @ Urban League Head Start • Jennings
DESCRIPTION:
URL:https://ofsmetromarket.org/event/metromarket-urban-league-head-start-jennings/2024-06-04/
LOCATION:Urban League Head Start • Jennings\, 8964 Jennings Station Rd\, St. Louis\, MO\, United States
END:VEVENT
BEGIN:VEVENT
DTSTART;TZID=America/Chicago:20240604T110000
DTEND;TZID=America/Chicago:20240604T130000
DTSTAMP:20260425T110224
CREATED:20240520T180440Z
LAST-MODIFIED:20240702T165325Z
UID:10000046-1717498800-1717506000@ofsmetromarket.org
SUMMARY:MetroMarket @ Affinia Healthcare • Lemp
DESCRIPTION:
URL:https://ofsmetromarket.org/event/metromarket-affinia-healthcare-lemp/2024-06-04/
LOCATION:Affinia • Lemp\, 2220 Lemp Ave\, St. Louis\, MO\, 63104\, United States
END:VEVENT
BEGIN:VEVENT
DTSTART;TZID=America/Chicago:20240531T150000
DTEND;TZID=America/Chicago:20240531T170000
DTSTAMP:20260425T110224
CREATED:20240427T015012Z
LAST-MODIFIED:20240429T201815Z
UID:10000042-1717167600-1717174800@ofsmetromarket.org
SUMMARY:MetroMarket @ Urban Sprouts
DESCRIPTION:
URL:https://ofsmetromarket.org/event/urban-sprouts-olive-5/
LOCATION:Urban Sprouts\, 6757 Olive Blvd\, University City\, MO\, 63130\, United States
END:VEVENT
BEGIN:VEVENT
DTSTART;TZID=America/Chicago:20240531T120000
DTEND;TZID=America/Chicago:20240531T140000
DTSTAMP:20260425T110224
CREATED:20240427T014816Z
LAST-MODIFIED:20240429T202545Z
UID:10000041-1717156800-1717164000@ofsmetromarket.org
SUMMARY:MetroMarket @ International Institute
DESCRIPTION:
URL:https://ofsmetromarket.org/event/international-institute/
LOCATION:International Institute\, 3401 Arsenal St\, St. Louis\, MO\, 63118\, United States
END:VEVENT
BEGIN:VEVENT
DTSTART;TZID=America/Chicago:20240531T110000
DTEND;TZID=America/Chicago:20240531T130000
DTSTAMP:20260425T110224
CREATED:20240427T014604Z
LAST-MODIFIED:20240429T202757Z
UID:10000040-1717153200-1717160400@ofsmetromarket.org
SUMMARY:MetroMarket @ CareSTL Health • Dr Martin Luther King
DESCRIPTION:
URL:https://ofsmetromarket.org/event/carestl-health-dr-martin-luther-king-5/
LOCATION:CareSTL • Dr Martin Luther King\, 5471 Dr Martin Luther King Dr\, St. Louis\, MO\, 63112\, United States
END:VEVENT
BEGIN:VEVENT
DTSTART;TZID=America/Chicago:20240530T150000
DTEND;TZID=America/Chicago:20240530T170000
DTSTAMP:20260425T110224
CREATED:20240427T014458Z
LAST-MODIFIED:20240429T202808Z
UID:10000039-1717081200-1717088400@ofsmetromarket.org
SUMMARY:MetroMarket @ Affinia Healthcare • Biddle
DESCRIPTION:
URL:https://ofsmetromarket.org/event/affinia-healthcare-biddle-4/
LOCATION:Affinia • Biddle\, 1717 Biddle St\, St. Louis\, MO\, 63106\, United States
END:VEVENT
BEGIN:VEVENT
DTSTART;TZID=America/Chicago:20240530T110000
DTEND;TZID=America/Chicago:20240530T130000
DTSTAMP:20260425T110224
CREATED:20240516T154524Z
LAST-MODIFIED:20240516T154524Z
UID:10000045-1717066800-1717074000@ofsmetromarket.org
SUMMARY:MetroMarket @ Delmar DivINe
DESCRIPTION:
URL:https://ofsmetromarket.org/event/metromarket-delmar-divine/2024-05-30/
LOCATION:Delmar DivINe\, 5501 Delmar Blvd\, St. Louis\, MO\, 63112\, United States
END:VEVENT
END:VCALENDAR