BEGIN:VCALENDAR
VERSION:2.0
PRODID:-//OFS MetroMarket - ECPv6.15.5//NONSGML v1.0//EN
CALSCALE:GREGORIAN
METHOD:PUBLISH
X-WR-CALNAME:OFS MetroMarket
X-ORIGINAL-URL:https://ofsmetromarket.org
X-WR-CALDESC:Events for OFS MetroMarket
REFRESH-INTERVAL;VALUE=DURATION:PT1H
X-Robots-Tag:noindex
X-PUBLISHED-TTL:PT1H
BEGIN:VTIMEZONE
TZID:America/Chicago
BEGIN:DAYLIGHT
TZOFFSETFROM:-0600
TZOFFSETTO:-0500
TZNAME:CDT
DTSTART:20240310T080000
END:DAYLIGHT
BEGIN:STANDARD
TZOFFSETFROM:-0500
TZOFFSETTO:-0600
TZNAME:CST
DTSTART:20241103T070000
END:STANDARD
END:VTIMEZONE
BEGIN:VEVENT
DTSTART;TZID=America/Chicago:20240725T110000
DTEND;TZID=America/Chicago:20240725T130000
DTSTAMP:20260423T155920
CREATED:20240613T192220Z
LAST-MODIFIED:20240923T170642Z
UID:10000157-1721905200-1721912400@ofsmetromarket.org
SUMMARY:MetroMarket @ Delmar DivINe
DESCRIPTION:
URL:https://ofsmetromarket.org/event/metromarket-delmar-divine-2-2/2024-07-25/
LOCATION:Delmar DivINe\, 5501 Delmar Blvd\, St. Louis\, MO\, 63112\, United States
END:VEVENT
BEGIN:VEVENT
DTSTART;TZID=America/Chicago:20240724T150000
DTEND;TZID=America/Chicago:20240724T170000
DTSTAMP:20260423T155920
CREATED:20240520T183243Z
LAST-MODIFIED:20240521T153627Z
UID:10000131-1721833200-1721840400@ofsmetromarket.org
SUMMARY:MetroMarket @ St. Louis County Library • Lewis & Clark
DESCRIPTION:
URL:https://ofsmetromarket.org/event/metromarket-st-louis-county-library-lewis-clark/2024-07-24/
LOCATION:St. Louis County Library • Lewis and Clark\, 9909 Lewis and Clark Blvd\, St. Louis\, MO\, 63136-5322\, United States
END:VEVENT
BEGIN:VEVENT
DTSTART;TZID=America/Chicago:20240724T110000
DTEND;TZID=America/Chicago:20240724T130000
DTSTAMP:20260423T155920
CREATED:20240722T183217Z
LAST-MODIFIED:20240805T200110Z
UID:10000390-1721818800-1721826000@ofsmetromarket.org
SUMMARY:MetroMarket @ Christian Hospital
DESCRIPTION:
URL:https://ofsmetromarket.org/event/metromarket-christian-hospital-3/2024-07-24/
LOCATION:Christian Hospital • Dunn\, 11133 Dunn Road\, St. Louis\, MO\, 63136\, United States
END:VEVENT
BEGIN:VEVENT
DTSTART;TZID=America/Chicago:20240723T150000
DTEND;TZID=America/Chicago:20240723T170000
DTSTAMP:20260423T155920
CREATED:20240520T182223Z
LAST-MODIFIED:20240702T181158Z
UID:10000079-1721746800-1721754000@ofsmetromarket.org
SUMMARY:MetroMarket @ Urban League Head Start • Jennings
DESCRIPTION:
URL:https://ofsmetromarket.org/event/metromarket-urban-league-head-start-jennings/2024-07-23/
LOCATION:Urban League Head Start • Jennings\, 8964 Jennings Station Rd\, St. Louis\, MO\, United States
END:VEVENT
BEGIN:VEVENT
DTSTART;TZID=America/Chicago:20240723T110000
DTEND;TZID=America/Chicago:20240723T130000
DTSTAMP:20260423T155920
CREATED:20240520T180440Z
LAST-MODIFIED:20240702T165325Z
UID:10000053-1721732400-1721739600@ofsmetromarket.org
SUMMARY:MetroMarket @ Affinia Healthcare • Lemp
DESCRIPTION:
URL:https://ofsmetromarket.org/event/metromarket-affinia-healthcare-lemp/2024-07-23/
LOCATION:Affinia • Lemp\, 2220 Lemp Ave\, St. Louis\, MO\, 63104\, United States
END:VEVENT
BEGIN:VEVENT
DTSTART;TZID=America/Chicago:20240719T150000
DTEND;TZID=America/Chicago:20240719T170000
DTSTAMP:20260423T155920
CREATED:20240521T164348Z
LAST-MODIFIED:20240711T203452Z
UID:10000295-1721401200-1721408400@ofsmetromarket.org
SUMMARY:MetroMarket @ Affinia • Ferguson
DESCRIPTION:
URL:https://ofsmetromarket.org/event/metromarket-affinia-ferguson/2024-07-19/
LOCATION:Affinia • Ferguson\, 3396 Pershall Rd\, Ferguson\, MO\, 63135\, United States
END:VEVENT
BEGIN:VEVENT
DTSTART;TZID=America/Chicago:20240719T120000
DTEND;TZID=America/Chicago:20240719T140000
DTSTAMP:20260423T155920
CREATED:20240427T011030Z
LAST-MODIFIED:20240521T173133Z
UID:10000233-1721390400-1721397600@ofsmetromarket.org
SUMMARY:MetroMarket @ Homer G. Phillips Sr Apts
DESCRIPTION:
URL:https://ofsmetromarket.org/event/homer-g-phillips-sr-apts-whittier-2/2024-07-19/
LOCATION:Homer G. Phillips Sr Apartments\, 2601 Whittier St\, St. Louis\, MO\, 63113\, United States
END:VEVENT
BEGIN:VEVENT
DTSTART;TZID=America/Chicago:20240719T110000
DTEND;TZID=America/Chicago:20240719T130000
DTSTAMP:20260423T155920
CREATED:20240520T192334Z
LAST-MODIFIED:20240702T180620Z
UID:10000208-1721386800-1721394000@ofsmetromarket.org
SUMMARY:MetroMarket @ CareSTL Health • Dr Martin Luther King
DESCRIPTION:
URL:https://ofsmetromarket.org/event/metromarket-carestl-health-dr-martin-luther-king/2024-07-19/
LOCATION:CareSTL • Dr Martin Luther King\, 5471 Dr Martin Luther King Dr\, St. Louis\, MO\, 63112\, United States
END:VEVENT
BEGIN:VEVENT
DTSTART;TZID=America/Chicago:20240718T150000
DTEND;TZID=America/Chicago:20240718T170000
DTSTAMP:20260423T155920
CREATED:20240520T190753Z
LAST-MODIFIED:20240923T171439Z
UID:10000182-1721314800-1721322000@ofsmetromarket.org
SUMMARY:MetroMarket @ Affinia • Biddle
DESCRIPTION:
URL:https://ofsmetromarket.org/event/metromarket-affinia-biddle/2024-07-18/
LOCATION:Affinia • Biddle\, 1717 Biddle St\, St. Louis\, MO\, 63106\, United States
END:VEVENT
BEGIN:VEVENT
DTSTART;TZID=America/Chicago:20240718T120000
DTEND;TZID=America/Chicago:20240718T140000
DTSTAMP:20260423T155920
CREATED:20240521T143030Z
LAST-MODIFIED:20240702T180349Z
UID:10000294-1721304000-1721311200@ofsmetromarket.org
SUMMARY:MetroMarket @ Family Care Health Center • Manchester
DESCRIPTION:
URL:https://ofsmetromarket.org/event/family-care-health-center/2024-07-18/
LOCATION:MO
END:VEVENT
BEGIN:VEVENT
DTSTART;TZID=America/Chicago:20240718T110000
DTEND;TZID=America/Chicago:20240718T130000
DTSTAMP:20260423T155920
CREATED:20240702T151649Z
LAST-MODIFIED:20240702T151649Z
UID:10000354-1721300400-1721307600@ofsmetromarket.org
SUMMARY:MetroMarket @ Wesley House
DESCRIPTION:
URL:https://ofsmetromarket.org/event/metromarket-wesley-house/2024-07-18/
LOCATION:Wesley House\, 4507 E Lee Ave\, St. Louis\, MO\, 63115\, United States
END:VEVENT
BEGIN:VEVENT
DTSTART;TZID=America/Chicago:20240718T110000
DTEND;TZID=America/Chicago:20240718T130000
DTSTAMP:20260423T155920
CREATED:20240613T192220Z
LAST-MODIFIED:20240923T170642Z
UID:10000156-1721300400-1721307600@ofsmetromarket.org
SUMMARY:MetroMarket @ Delmar DivINe
DESCRIPTION:
URL:https://ofsmetromarket.org/event/metromarket-delmar-divine-2-2/2024-07-18/
LOCATION:Delmar DivINe\, 5501 Delmar Blvd\, St. Louis\, MO\, 63112\, United States
END:VEVENT
BEGIN:VEVENT
DTSTART;TZID=America/Chicago:20240717T150000
DTEND;TZID=America/Chicago:20240717T170000
DTSTAMP:20260423T155920
CREATED:20240520T183243Z
LAST-MODIFIED:20240521T153627Z
UID:10000130-1721228400-1721235600@ofsmetromarket.org
SUMMARY:MetroMarket @ St. Louis County Library • Lewis & Clark
DESCRIPTION:
URL:https://ofsmetromarket.org/event/metromarket-st-louis-county-library-lewis-clark/2024-07-17/
LOCATION:St. Louis County Library • Lewis and Clark\, 9909 Lewis and Clark Blvd\, St. Louis\, MO\, 63136-5322\, United States
END:VEVENT
BEGIN:VEVENT
DTSTART;TZID=America/Chicago:20240717T110000
DTEND;TZID=America/Chicago:20240717T130000
DTSTAMP:20260423T155920
CREATED:20240520T182806Z
LAST-MODIFIED:20240702T174655Z
UID:10000104-1721214000-1721221200@ofsmetromarket.org
SUMMARY:MetroMarket @ Five Star Center
DESCRIPTION:
URL:https://ofsmetromarket.org/event/five-star-center-3/2024-07-17/
LOCATION:5 Star Center\, 2832 Arsenal St\, St. Louis\, MO\, 63118\, United States
END:VEVENT
BEGIN:VEVENT
DTSTART;TZID=America/Chicago:20240716T150000
DTEND;TZID=America/Chicago:20240716T170000
DTSTAMP:20260423T155920
CREATED:20240520T182223Z
LAST-MODIFIED:20240702T181158Z
UID:10000078-1721142000-1721149200@ofsmetromarket.org
SUMMARY:MetroMarket @ Urban League Head Start • Jennings
DESCRIPTION:
URL:https://ofsmetromarket.org/event/metromarket-urban-league-head-start-jennings/2024-07-16/
LOCATION:Urban League Head Start • Jennings\, 8964 Jennings Station Rd\, St. Louis\, MO\, United States
END:VEVENT
BEGIN:VEVENT
DTSTART;TZID=America/Chicago:20240716T110000
DTEND;TZID=America/Chicago:20240716T130000
DTSTAMP:20260423T155920
CREATED:20240520T180440Z
LAST-MODIFIED:20240702T165325Z
UID:10000052-1721127600-1721134800@ofsmetromarket.org
SUMMARY:MetroMarket @ Affinia Healthcare • Lemp
DESCRIPTION:
URL:https://ofsmetromarket.org/event/metromarket-affinia-healthcare-lemp/2024-07-16/
LOCATION:Affinia • Lemp\, 2220 Lemp Ave\, St. Louis\, MO\, 63104\, United States
END:VEVENT
BEGIN:VEVENT
DTSTART;TZID=America/Chicago:20240712T150000
DTEND;TZID=America/Chicago:20240712T170000
DTSTAMP:20260423T155920
CREATED:20240521T164348Z
LAST-MODIFIED:20240711T203452Z
UID:10000336-1720796400-1720803600@ofsmetromarket.org
SUMMARY:MetroMarket @ Affinia • Ferguson
DESCRIPTION:
URL:https://ofsmetromarket.org/event/metromarket-affinia-ferguson/2024-07-12/
LOCATION:Affinia • Ferguson\, 3396 Pershall Rd\, Ferguson\, MO\, 63135\, United States
END:VEVENT
BEGIN:VEVENT
DTSTART;TZID=America/Chicago:20240712T120000
DTEND;TZID=America/Chicago:20240712T140000
DTSTAMP:20260423T155920
CREATED:20240520T201447Z
LAST-MODIFIED:20240702T180929Z
UID:10000255-1720785600-1720792800@ofsmetromarket.org
SUMMARY:MetroMarket @ International Institute
DESCRIPTION:
URL:https://ofsmetromarket.org/event/metromarket-international-institute/2024-07-12/
LOCATION:International Institute\, 3401 Arsenal St\, St. Louis\, MO\, 63118\, United States
END:VEVENT
BEGIN:VEVENT
DTSTART;TZID=America/Chicago:20240712T110000
DTEND;TZID=America/Chicago:20240712T130000
DTSTAMP:20260423T155920
CREATED:20240520T192334Z
LAST-MODIFIED:20240702T180620Z
UID:10000207-1720782000-1720789200@ofsmetromarket.org
SUMMARY:MetroMarket @ CareSTL Health • Dr Martin Luther King
DESCRIPTION:
URL:https://ofsmetromarket.org/event/metromarket-carestl-health-dr-martin-luther-king/2024-07-12/
LOCATION:CareSTL • Dr Martin Luther King\, 5471 Dr Martin Luther King Dr\, St. Louis\, MO\, 63112\, United States
END:VEVENT
BEGIN:VEVENT
DTSTART;TZID=America/Chicago:20240711T150000
DTEND;TZID=America/Chicago:20240711T170000
DTSTAMP:20260423T155920
CREATED:20240520T190753Z
LAST-MODIFIED:20240923T171439Z
UID:10000181-1720710000-1720717200@ofsmetromarket.org
SUMMARY:MetroMarket @ Affinia • Biddle
DESCRIPTION:
URL:https://ofsmetromarket.org/event/metromarket-affinia-biddle/2024-07-11/
LOCATION:Affinia • Biddle\, 1717 Biddle St\, St. Louis\, MO\, 63106\, United States
END:VEVENT
BEGIN:VEVENT
DTSTART;TZID=America/Chicago:20240711T120000
DTEND;TZID=America/Chicago:20240711T140000
DTSTAMP:20260423T155920
CREATED:20240427T010437Z
LAST-MODIFIED:20240702T163517Z
UID:10000338-1720699200-1720706400@ofsmetromarket.org
SUMMARY:MetroMarket @ Family Care Health Centers • Holly Hills
DESCRIPTION:
URL:https://ofsmetromarket.org/event/family-care-health-centers-holly-hills/2024-07-11/
LOCATION:Family Care Health Centers • Holly Hills\, 401 Holly Hills Ave\, St. Louis\, MO\, 63111\, United States
END:VEVENT
BEGIN:VEVENT
DTSTART;TZID=America/Chicago:20240711T110000
DTEND;TZID=America/Chicago:20240711T130000
DTSTAMP:20260423T155920
CREATED:20240613T192220Z
LAST-MODIFIED:20240923T170642Z
UID:10000155-1720695600-1720702800@ofsmetromarket.org
SUMMARY:MetroMarket @ Delmar DivINe
DESCRIPTION:
URL:https://ofsmetromarket.org/event/metromarket-delmar-divine-2-2/2024-07-11/
LOCATION:Delmar DivINe\, 5501 Delmar Blvd\, St. Louis\, MO\, 63112\, United States
END:VEVENT
BEGIN:VEVENT
DTSTART;TZID=America/Chicago:20240710T150000
DTEND;TZID=America/Chicago:20240710T170000
DTSTAMP:20260423T155920
CREATED:20240520T183243Z
LAST-MODIFIED:20240521T153627Z
UID:10000129-1720623600-1720630800@ofsmetromarket.org
SUMMARY:MetroMarket @ St. Louis County Library • Lewis & Clark
DESCRIPTION:
URL:https://ofsmetromarket.org/event/metromarket-st-louis-county-library-lewis-clark/2024-07-10/
LOCATION:St. Louis County Library • Lewis and Clark\, 9909 Lewis and Clark Blvd\, St. Louis\, MO\, 63136-5322\, United States
END:VEVENT
BEGIN:VEVENT
DTSTART;TZID=America/Chicago:20240709T150000
DTEND;TZID=America/Chicago:20240709T170000
DTSTAMP:20260423T155920
CREATED:20240520T182223Z
LAST-MODIFIED:20240702T181158Z
UID:10000077-1720537200-1720544400@ofsmetromarket.org
SUMMARY:MetroMarket @ Urban League Head Start • Jennings
DESCRIPTION:
URL:https://ofsmetromarket.org/event/metromarket-urban-league-head-start-jennings/2024-07-09/
LOCATION:Urban League Head Start • Jennings\, 8964 Jennings Station Rd\, St. Louis\, MO\, United States
END:VEVENT
BEGIN:VEVENT
DTSTART;TZID=America/Chicago:20240709T110000
DTEND;TZID=America/Chicago:20240709T130000
DTSTAMP:20260423T155920
CREATED:20240520T180440Z
LAST-MODIFIED:20240702T165325Z
UID:10000051-1720522800-1720530000@ofsmetromarket.org
SUMMARY:MetroMarket @ Affinia Healthcare • Lemp
DESCRIPTION:
URL:https://ofsmetromarket.org/event/metromarket-affinia-healthcare-lemp/2024-07-09/
LOCATION:Affinia • Lemp\, 2220 Lemp Ave\, St. Louis\, MO\, 63104\, United States
END:VEVENT
BEGIN:VEVENT
DTSTART;TZID=America/Chicago:20240705T150000
DTEND;TZID=America/Chicago:20240705T170000
DTSTAMP:20260423T155920
CREATED:20240521T143522Z
LAST-MODIFIED:20240521T181837Z
UID:10000293-1720191600-1720198800@ofsmetromarket.org
SUMMARY:MetroMarket @ Urban Sprouts
DESCRIPTION:
URL:https://ofsmetromarket.org/event/urban-sprouts-5/2024-07-05/
LOCATION:Urban Sprouts\, 6757 Olive Blvd\, University City\, MO\, 63130\, United States
END:VEVENT
BEGIN:VEVENT
DTSTART;TZID=America/Chicago:20240705T120000
DTEND;TZID=America/Chicago:20240705T140000
DTSTAMP:20260423T155920
CREATED:20240605T184616Z
LAST-MODIFIED:20240923T170432Z
UID:10000352-1720180800-1720188000@ofsmetromarket.org
SUMMARY:MetroMarket @ Christian Hospital
DESCRIPTION:
URL:https://ofsmetromarket.org/event/metromarket-christian-hospital-2/2024-07-05/
LOCATION:Christian Hospital • Dunn\, 11133 Dunn Road\, St. Louis\, MO\, 63136\, United States
END:VEVENT
BEGIN:VEVENT
DTSTART;TZID=America/Chicago:20240705T120000
DTEND;TZID=America/Chicago:20240705T140000
DTSTAMP:20260423T155920
CREATED:20240427T011030Z
LAST-MODIFIED:20240521T173133Z
UID:10000231-1720180800-1720188000@ofsmetromarket.org
SUMMARY:MetroMarket @ Homer G. Phillips Sr Apts
DESCRIPTION:
URL:https://ofsmetromarket.org/event/homer-g-phillips-sr-apts-whittier-2/2024-07-05/
LOCATION:Homer G. Phillips Sr Apartments\, 2601 Whittier St\, St. Louis\, MO\, 63113\, United States
END:VEVENT
BEGIN:VEVENT
DTSTART;TZID=America/Chicago:20240705T110000
DTEND;TZID=America/Chicago:20240705T130000
DTSTAMP:20260423T155920
CREATED:20240520T192334Z
LAST-MODIFIED:20240702T180620Z
UID:10000206-1720177200-1720184400@ofsmetromarket.org
SUMMARY:MetroMarket @ CareSTL Health • Dr Martin Luther King
DESCRIPTION:
URL:https://ofsmetromarket.org/event/metromarket-carestl-health-dr-martin-luther-king/2024-07-05/
LOCATION:CareSTL • Dr Martin Luther King\, 5471 Dr Martin Luther King Dr\, St. Louis\, MO\, 63112\, United States
END:VEVENT
BEGIN:VEVENT
DTSTART;TZID=America/Chicago:20240703T150000
DTEND;TZID=America/Chicago:20240703T170000
DTSTAMP:20260423T155920
CREATED:20240520T183243Z
LAST-MODIFIED:20240521T153627Z
UID:10000128-1720018800-1720026000@ofsmetromarket.org
SUMMARY:MetroMarket @ St. Louis County Library • Lewis & Clark
DESCRIPTION:
URL:https://ofsmetromarket.org/event/metromarket-st-louis-county-library-lewis-clark/2024-07-03/
LOCATION:St. Louis County Library • Lewis and Clark\, 9909 Lewis and Clark Blvd\, St. Louis\, MO\, 63136-5322\, United States
END:VEVENT
END:VCALENDAR